BEGIN:VCALENDAR
VERSION:2.0
PRODID:DPCALENDAR
CALSCALE:GREGORIAN
BEGIN:VTIMEZONE
TZID:Europe/Berlin
X-MICROSOFT-CDO-TZID:4
BEGIN:STANDARD
DTSTART:20251026T010000
TZOFFSETFROM:+0200
TZOFFSETTO:+0100
TZNAME:CET
END:STANDARD
BEGIN:STANDARD
DTSTART:20261025T010000
TZOFFSETFROM:+0200
TZOFFSETTO:+0100
TZNAME:CET
END:STANDARD
BEGIN:DAYLIGHT
DTSTART:20260329T010000
TZOFFSETFROM:+0100
TZOFFSETTO:+0200
TZNAME:CEST
END:DAYLIGHT
END:VTIMEZONE
X-WR-TIMEZONE:Europe/Berlin
BEGIN:VEVENT
DTSTART;TZID=Europe/Berlin:20141011T190000
DTEND;TZID=Europe/Berlin:20141011T233000
UID:D3F5BE18-7F4E-48A7-8B72-9889C6D7C104
SUMMARY:Treffen mit Schützenverein Vormwald
DTSTAMP:20141011T085250Z
DESCRIPTION:
X-ALT-DESC;FMTTYPE=text/html:
LOCATION:20 Waldstraße\, Sommerkahl\, Bayern 63825\, Deutschland
GEO:50.06705000;9.26176000
LAST-MODIFIED:20141011T085340Z
X-ACCESS:1
X-HITS:2
X-URL:
X-COLOR:3366CC
END:VEVENT
BEGIN:VEVENT
DTSTART;TZID=Europe/Berlin:20141025T190000
DTEND;TZID=Europe/Berlin:20141025T230000
UID:69F4ABA7-DE89-40C5-BF5C-6CC3FE97781B
SUMMARY:Gaukönigsball
DTSTAMP:20141011T130259Z
DESCRIPTION:
X-ALT-DESC;FMTTYPE=text/html:
LOCATION:7 Jahnstraße\, Hösbach\, Bayern 63768\, Deutschland
GEO:50.00649000;9.20394000
X-ACCESS:1
X-HITS:108
X-URL:
X-COLOR:3366CC
END:VEVENT
BEGIN:VEVENT
DTSTART;TZID=Europe/Berlin:20141108T100000
DTEND;TZID=Europe/Berlin:20141108T180000
UID:A3B13112-04A7-4035-8E39-922C2F960530
SUMMARY:Gaumeisterschaft KK 50m aufgelegt und ZF
DTSTAMP:20141028T172344Z
DESCRIPTION:
X-ALT-DESC;FMTTYPE=text/html:
LOCATION:990 Am Höllenbach\, Schöllkrippen\, Bayern 63825\, Deutschland
GEO:50.08379370;9.25536990
LAST-MODIFIED:20141028T172640Z
X-ACCESS:1
X-HITS:104
X-URL:
X-COLOR:3366CC
END:VEVENT
BEGIN:VEVENT
DTSTART;TZID=Europe/Berlin:20141113T193000
DTEND;TZID=Europe/Berlin:20141113T220000
UID:44F0079E-864D-4252-B24D-263244A18C58
SUMMARY:Heimkampf 1. Mannschaft LP
DTSTAMP:20141113T165437Z
DESCRIPTION:
X-ALT-DESC;FMTTYPE=text/html:
LOCATION:990 Am Höllenbach\, Schöllkrippen\, Bayern 63825\, Deutschland
GEO:50.08379370;9.25536990
X-ACCESS:1
X-HITS:4
X-URL:
X-COLOR:03FF2D
END:VEVENT
BEGIN:VEVENT
DTSTART;TZID=Europe/Berlin:20141115T090000
DTEND;TZID=Europe/Berlin:20141116T190000
UID:9E8B1D70-9823-441D-B947-F87EA06ADD57
SUMMARY:Gaumeisterschaft KK 100 m
DTSTAMP:20141028T172454Z
DESCRIPTION:
X-ALT-DESC;FMTTYPE=text/html:
LOCATION:990 Am Höllenbach\, Schöllkrippen\, Bayern 63825\, Deutschland
GEO:50.08379370;9.25536990
LAST-MODIFIED:20141108T232926Z
X-ACCESS:1
X-HITS:185
X-URL:
X-COLOR:3366CC
END:VEVENT
BEGIN:VEVENT
DTSTART;TZID=Europe/Berlin:20141120T090000
DTEND;TZID=Europe/Berlin:20141120T093000
UID:FDC424A5-32B5-4F37-8096-8AD293FD04AA
SUMMARY:Finale des Gaujugendpokales 2014 in Haibach
DTSTAMP:20141028T172933Z
DESCRIPTION:
X-ALT-DESC;FMTTYPE=text/html:
LOCATION:Haibach
GEO:49.96595340;9.19986630
X-ACCESS:1
X-HITS:130
X-URL:
X-COLOR:3366CC
END:VEVENT
BEGIN:VEVENT
DTSTART;TZID=Europe/Berlin:20141205T193000
DTEND;TZID=Europe/Berlin:20141205T220000
UID:D059DDD6-020B-431C-A910-5F7B715452E2
SUMMARY:RWK LG 1. Mannschaft gegen SV Dettingen 1
DTSTAMP:20141116T184418Z
DESCRIPTION:
X-ALT-DESC;FMTTYPE=text/html:
LOCATION:990 Am Höllenbach\, Schöllkrippen\, Bayern 63825\, Deutschland
GEO:50.08379370;9.25536990
LAST-MODIFIED:20141116T185110Z
X-ACCESS:1
X-HITS:135
X-URL:
X-COLOR:24FF03
END:VEVENT
BEGIN:VEVENT
DTSTART;TZID=Europe/Berlin:20141205T193000
DTEND;TZID=Europe/Berlin:20141205T220000
UID:532E3F18-C557-4074-9C0E-97CC5730025D
SUMMARY:RWK LG 2. Mannschaft gegen SV 1930 Kleinostheim 1
DTSTAMP:20141116T190639Z
DESCRIPTION:
X-ALT-DESC;FMTTYPE=text/html:
LOCATION:990 Am Höllenbach\, Schöllkrippen\, Bayern 63825\, Deutschland
GEO:50.08379370;9.25536990
X-ACCESS:1
X-HITS:114
X-URL:
X-COLOR:24FF03
END:VEVENT
BEGIN:VEVENT
DTSTART;TZID=Europe/Berlin:20141212T193000
DTEND;TZID=Europe/Berlin:20141212T220000
UID:4178087C-0612-49AF-A08F-57CB27F1E514
SUMMARY:RWK LP 1. Mannschaft gegen SV Lohr 1
DTSTAMP:20141116T185738Z
DESCRIPTION:
X-ALT-DESC;FMTTYPE=text/html:
LOCATION:990 Am Höllenbach\, Schöllkrippen\, Bayern 63825\, Deutschland
GEO:50.08379370;9.25536990
X-ACCESS:1
X-HITS:207
X-URL:
X-COLOR:24FF03
END:VEVENT
BEGIN:VEVENT
DTSTART;TZID=Europe/Berlin:20141213T190000
DTEND;TZID=Europe/Berlin:20141214T010000
UID:27788DBE-B072-4CC7-8E1E-2E96CD3E2E22
SUMMARY:Weihnachtsfeier
DTSTAMP:20141022T195736Z
DESCRIPTION:
X-ALT-DESC;FMTTYPE=text/html:
LOCATION:990 Am Höllenbach\, Schöllkrippen\, Bayern 63825\, Deutschland
GEO:50.08379370;9.25536990
X-ACCESS:1
X-HITS:253
X-URL:
X-COLOR:3366CC
END:VEVENT
BEGIN:VEVENT
DTSTART;TZID=Europe/Berlin:20141231T100000
DTEND;TZID=Europe/Berlin:20141231T140000
UID:3AFF5B8B-621B-4742-AE44-38B473DC4663
SUMMARY:AWK-Silvesterböllern in Laudenbach
DTSTAMP:20141022T195848Z
DESCRIPTION:AWK-Silvesterböllern der RAG-Schall und Rauch in Laudenbach\N Wir treffen uns um 10:00 Uhr auf dem Parkplatz des FC Laudenbach e.V. am Heinrichstalerweg 7 in 63828 Kleinkahl
X-ALT-DESC;FMTTYPE=text/html:<p>AWK-Silvesterböllern der RAG-Schall und Rauch in Laudenbach</p><p> Wir treffen uns um 10:00 Uhr auf dem Parkplatz des FC Laudenbach e.V. am Heinrichstalerweg 7 in 63828 Kleinkahl</p>
LOCATION:27 Kirchstraße\, Kleinkahl\, Bayern 63828\, Deutschland
GEO:50.10403160;9.27308250
LAST-MODIFIED:20141210T091403Z
X-ACCESS:1
X-HITS:302
X-URL:
X-COLOR:3366CC
END:VEVENT
BEGIN:VEVENT
DTSTART;TZID=Europe/Berlin:20150116T193000
DTEND;TZID=Europe/Berlin:20150116T220000
UID:AF56EACE-0003-40DB-8D96-FD376FD38A72
SUMMARY:RWK LG 1. Mannschaft gegen SV Hausen 2
DTSTAMP:20141116T184627Z
DESCRIPTION:
X-ALT-DESC;FMTTYPE=text/html:
LOCATION:990 Am Höllenbach\, Schöllkrippen\, Bayern 63825\, Deutschland
GEO:50.08379370;9.25536990
LAST-MODIFIED:20141116T185517Z
X-ACCESS:1
X-HITS:334
X-URL:
X-COLOR:24FF03
END:VEVENT
BEGIN:VEVENT
DTSTART;TZID=Europe/Berlin:20150116T193000
DTEND;TZID=Europe/Berlin:20150116T220000
UID:49621375-2EC2-4627-97DC-2D25AF6B5D75
SUMMARY:RWK LG 2. Mannschaft gegen SV 1888 Damm 1
DTSTAMP:20141116T190842Z
DESCRIPTION:
X-ALT-DESC;FMTTYPE=text/html:
LOCATION:990 Am Höllenbach\, Schöllkrippen\, Bayern 63825\, Deutschland
GEO:50.08379370;9.25536990
X-ACCESS:1
X-HITS:519
X-URL:
X-COLOR:24FF03
END:VEVENT
BEGIN:VEVENT
DTSTART;TZID=Europe/Berlin:20150220T193000
DTEND;TZID=Europe/Berlin:20150220T220000
UID:5B948DAA-EBBD-44C6-80BF-73D58FBA53DD
SUMMARY:RWK LP 1. Mannschaft gegen SV Lohr 2
DTSTAMP:20141116T185845Z
DESCRIPTION:
X-ALT-DESC;FMTTYPE=text/html:
LOCATION:990 Am Höllenbach\, Schöllkrippen\, Bayern 63825\, Deutschland
GEO:50.08379370;9.25536990
LAST-MODIFIED:20141116T190357Z
X-ACCESS:1
X-HITS:418
X-URL:
X-COLOR:24FF03
END:VEVENT
BEGIN:VEVENT
DTSTART;TZID=Europe/Berlin:20150227T193000
DTEND;TZID=Europe/Berlin:20150227T220000
UID:9C95182E-B179-4AC3-B6A2-96BC5D9E5459
SUMMARY:RWK LG 1. Mannschaft gegen SV Großlaudenbach 1
DTSTAMP:20141116T184737Z
DESCRIPTION:
X-ALT-DESC;FMTTYPE=text/html:
LOCATION:990 Am Höllenbach\, Schöllkrippen\, Bayern 63825\, Deutschland
GEO:50.08379370;9.25536990
LAST-MODIFIED:20141116T185201Z
X-ACCESS:1
X-HITS:575
X-URL:
X-COLOR:24FF03
END:VEVENT
BEGIN:VEVENT
DTSTART;TZID=Europe/Berlin:20150227T193000
DTEND;TZID=Europe/Berlin:20150227T220000
UID:CE063910-E8F2-4430-A93D-5AA2CD326390
SUMMARY:RWK LG 2. Mannschaft gegen SV Oberafferbach 2
DTSTAMP:20141116T191346Z
DESCRIPTION:
X-ALT-DESC;FMTTYPE=text/html:
LOCATION:990 Am Höllenbach\, Schöllkrippen\, Bayern 63825\, Deutschland
GEO:50.08379370;9.25536990
X-ACCESS:1
X-HITS:291
X-URL:
X-COLOR:24FF03
END:VEVENT
BEGIN:VEVENT
DTSTART;TZID=Europe/Berlin:20150313T193000
DTEND;TZID=Europe/Berlin:20150313T220000
UID:CA5A4AD8-804C-4C86-A8AE-4E18CE30BCF1
SUMMARY:RWK LG 1. Mannschaft gegen SV Amorbach 1
DTSTAMP:20141116T185344Z
DESCRIPTION:
X-ALT-DESC;FMTTYPE=text/html:
LOCATION:990 Am Höllenbach\, Schöllkrippen\, Bayern 63825\, Deutschland
GEO:50.08379370;9.25536990
X-ACCESS:1
X-HITS:273
X-URL:
X-COLOR:24FF03
END:VEVENT
BEGIN:VEVENT
DTSTART;TZID=Europe/Berlin:20150313T193000
DTEND;TZID=Europe/Berlin:20150313T220000
UID:882FF29D-A73F-4862-A0F0-0C73DE2A92C1
SUMMARY:RWK LG 2. Mannschaft gegen SV Waldschenke Hösbach 1
DTSTAMP:20141116T191836Z
DESCRIPTION:
X-ALT-DESC;FMTTYPE=text/html:
LOCATION:990 Am Höllenbach\, Schöllkrippen\, Bayern 63825\, Deutschland
GEO:50.08379370;9.25536990
X-ACCESS:1
X-HITS:297
X-URL:
X-COLOR:24FF03
END:VEVENT
BEGIN:VEVENT
DTSTART;TZID=Europe/Berlin:20150410T193000
DTEND;TZID=Europe/Berlin:20150410T220000
UID:1769FDF2-A9FD-4ECE-A959-1E9543E7AEBC
SUMMARY:RWK LG 1. Mannschaft gegen SV Weibersbrunn 1
DTSTAMP:20141116T185436Z
DESCRIPTION:
X-ALT-DESC;FMTTYPE=text/html:
LOCATION:990 Am Höllenbach\, Schöllkrippen\, Bayern 63825\, Deutschland
GEO:50.08379370;9.25536990
X-ACCESS:1
X-HITS:250
X-URL:
X-COLOR:24FF03
END:VEVENT
BEGIN:VEVENT
DTSTART;TZID=Europe/Berlin:20150410T193000
DTEND;TZID=Europe/Berlin:20150410T220000
UID:4E447295-671A-4C4C-B033-D80672B7B8DE
SUMMARY:RWK LG 2. Mannschaft gegen SV 1930 Kleinostheim 2
DTSTAMP:20141116T192153Z
DESCRIPTION:
X-ALT-DESC;FMTTYPE=text/html:
LOCATION:990 Am Höllenbach\, Schöllkrippen\, Bayern 63825\, Deutschland
GEO:50.08379370;9.25536990
X-ACCESS:1
X-HITS:196
X-URL:
X-COLOR:24FF03
END:VEVENT
BEGIN:VEVENT
DTSTART;TZID=Europe/Berlin:20150418T090000
DTEND;TZID=Europe/Berlin:20150418T140000
UID:CCCC1D7B-200C-48F5-8710-8D94F57AB3A6
SUMMARY:Arbeitseinsatz Schützenhaus
DTSTAMP:20150412T115851Z
DESCRIPTION:
X-ALT-DESC;FMTTYPE=text/html:
LOCATION:990 Am Höllenbach\, Schöllkrippen\, Bayern 63825\, Deutschland
GEO:50.08379370;9.25536990
X-ACCESS:1
X-HITS:35
X-URL:
X-COLOR:FF0B03
END:VEVENT
BEGIN:VEVENT
DTSTART;TZID=Europe/Berlin:20150613T090000
DTEND;TZID=Europe/Berlin:20150613T140000
UID:A4ED661D-1003-4E91-9344-A8601BB7DD1B
SUMMARY:Arbeitseinsatz Schützenhaus
DTSTAMP:20150412T120011Z
DESCRIPTION:
X-ALT-DESC;FMTTYPE=text/html:
LOCATION:990 Am Höllenbach\, Schöllkrippen\, Bayern 63825\, Deutschland
GEO:50.08379370;9.25536990
X-ACCESS:1
X-HITS:532
X-URL:
X-COLOR:FF1605
END:VEVENT
BEGIN:VEVENT
DTSTART;TZID=Europe/Berlin:20150620T160000
DTEND;TZID=Europe/Berlin:20150621T000000
UID:1FC84BD7-D3E4-4049-A50D-D61D0D7E5D36
SUMMARY:Mittsommernachtsfest
DTSTAMP:20150412T120944Z
DESCRIPTION:
X-ALT-DESC;FMTTYPE=text/html:
LOCATION:990 Am Höllenbach\, Schöllkrippen\, Bayern 63825\, Deutschland
GEO:50.08379370;9.25536990
X-ACCESS:1
X-HITS:465
X-URL:
X-COLOR:0505FF
END:VEVENT
BEGIN:VEVENT
DTSTART;TZID=Europe/Berlin:20150919T090000
DTEND;TZID=Europe/Berlin:20150919T140000
UID:77C452D3-C59E-425A-9E4B-A802BB3A55D1
SUMMARY:Arbeitseinsatz Schützenhaus
DTSTAMP:20150412T120120Z
DESCRIPTION:
X-ALT-DESC;FMTTYPE=text/html:
LOCATION:990 Am Höllenbach\, Schöllkrippen\, Bayern 63825\, Deutschland
GEO:50.08379370;9.25536990
X-ACCESS:1
X-HITS:644
X-URL:
X-COLOR:FF1808
END:VEVENT
BEGIN:VEVENT
DTSTART;TZID=Europe/Berlin:20151002T200000
DTEND;TZID=Europe/Berlin:20151002T220000
UID:1D739CE5-9EC7-40F6-94CA-130AB8C86618
SUMMARY:LG 1.Mannschaft Wettkampf
DTSTAMP:20150925T092646Z
DESCRIPTION:SV Schöllkrippen 1 : SV Heigenbrücken 1
X-ALT-DESC;FMTTYPE=text/html:<div style="left: 388.197px; top: 313.623px; font-size: 13.3333px; font-family: sans-serif; transform: scaleX(1.02599);" data-canvas-width="122.09333333333332">SV Schöllkrippen 1 : SV Heigenbrücken 1</div>
LOCATION:990 Am Höllenbach\, Schöllkrippen\, Bayern 63825\, Deutschland
GEO:50.08379370;9.25536990
LAST-MODIFIED:20150925T092725Z
X-ACCESS:1
X-HITS:240
X-URL:
X-COLOR:05FF0D
END:VEVENT
BEGIN:VEVENT
DTSTART;TZID=Europe/Berlin:20151009T173000
DTEND;TZID=Europe/Berlin:20151010T000000
UID:477E6752-5566-4C37-8AD2-CD3623350CD3
SUMMARY:Böllertaufe u. Kanonenweihe
DTSTAMP:20150925T092027Z
DESCRIPTION:
X-ALT-DESC;FMTTYPE=text/html:
LOCATION:990 Am Höllenbach\, Schöllkrippen\, Bayern 63825\, Deutschland
GEO:50.08379370;9.25536990
X-ACCESS:1
X-HITS:381
X-URL:
X-COLOR:0808FF
END:VEVENT
BEGIN:VEVENT
DTSTART;TZID=Europe/Berlin:20151009T200000
DTEND;TZID=Europe/Berlin:20151009T220000
UID:989A0899-708B-4C5E-91F9-AE3A82C97749
SUMMARY:LP 1.Mannschaft Wettkampf
DTSTAMP:20150925T092939Z
DESCRIPTION:Schöllkrippen 1 : Michelbach 1
X-ALT-DESC;FMTTYPE=text/html:<p>Schöllkrippen 1 : Michelbach 1</p>
LOCATION:990 Am Höllenbach\, Schöllkrippen\, Bayern 63825\, Deutschland
GEO:50.08379370;9.25536990
LAST-MODIFIED:20150925T095542Z
X-ACCESS:1
X-HITS:286
X-URL:
X-COLOR:16FF05
END:VEVENT
BEGIN:VEVENT
DTSTART;TZID=Europe/Berlin:20151205T090000
DTEND;TZID=Europe/Berlin:20151205T140000
UID:BA78B238-6D26-4086-8A50-F11B75F761F4
SUMMARY:Arbeitseinsatz Schützenhaus
DTSTAMP:20150412T120225Z
DESCRIPTION:
X-ALT-DESC;FMTTYPE=text/html:
LOCATION:990 Am Höllenbach\, Schöllkrippen\, Bayern 63825\, Deutschland
GEO:50.08379370;9.25536990
X-ACCESS:1
X-HITS:869
X-URL:
X-COLOR:FF0B03
END:VEVENT
BEGIN:VEVENT
DTSTART;TZID=Europe/Berlin:20151212T190000
DTEND;TZID=Europe/Berlin:20151213T000000
UID:F188AFD1-3D85-4962-9E68-127D25FB14D9
SUMMARY:Weihnachtsfeier
DTSTAMP:20150412T121326Z
DESCRIPTION:
X-ALT-DESC;FMTTYPE=text/html:
LOCATION:990 Am Höllenbach\, Schöllkrippen\, Bayern 63825\, Deutschland
GEO:50.08379370;9.25536990
X-ACCESS:1
X-HITS:786
X-URL:
X-COLOR:030BFF
END:VEVENT
BEGIN:VEVENT
DTSTART;TZID=Europe/Berlin:20151229T103000
DTEND;TZID=Europe/Berlin:20151229T220000
UID:3FB31628-34F1-4669-86BD-EBE1A36DBE10
SUMMARY:Winterwanderung
DTSTAMP:20151213T193952Z
DESCRIPTION:Treffpunkt 10.30 Uhr an der Rodberghütte  (wer möchte und Zeit hat)
X-ALT-DESC;FMTTYPE=text/html:<p><em>Treffpunkt 10.30 Uhr an der Rodberghütte  (wer möchte und Zeit hat)</em></p>
X-ACCESS:1
X-HITS:209
X-URL:
X-COLOR:2200FF
END:VEVENT
BEGIN:VEVENT
DTSTART;TZID=Europe/Berlin:20151231T090000
DTEND;TZID=Europe/Berlin:20151231T120000
UID:D8A36EAC-98B4-453D-AB6F-A4FE62A8A8CD
SUMMARY:Silvesterböllern
DTSTAMP:20150412T121532Z
DESCRIPTION:
X-ALT-DESC;FMTTYPE=text/html:
LOCATION:990 Am Höllenbach\, Schöllkrippen\, Bayern 63825\, Deutschland
GEO:50.08379370;9.25536990
X-ACCESS:1
X-HITS:563
X-URL:
X-COLOR:0800FF
END:VEVENT
BEGIN:VEVENT
DTSTART;TZID=Europe/Berlin:20160123T160000
DTEND;TZID=Europe/Berlin:20160123T220000
UID:7A14CB93-BC5C-44FC-9F94-6C7511E1B4DA
SUMMARY:Lakefleischessen
DTSTAMP:20151213T194315Z
DESCRIPTION:ab 16 Uhr für alle Mitglieder  (Anmeldung hierfür bis zum 14.01.16 bei Johannes Eckert)
X-ALT-DESC;FMTTYPE=text/html:<p><em>ab 16 Uhr für alle Mitglieder  (Anmeldung hierfür bis zum 14.01.16 bei Johannes Eckert)</em></p>
LOCATION:990 Am Höllenbach\, Schöllkrippen\, Bayern 63825\, Deutschland
GEO:50.08379370;9.25536990
LAST-MODIFIED:20151213T194342Z
X-ACCESS:1
X-HITS:305
X-URL:
X-COLOR:0B03FF
END:VEVENT
BEGIN:VEVENT
DTSTART;TZID=Europe/Berlin:20160131T150000
DTEND;TZID=Europe/Berlin:20160131T153000
UID:093EF914-F9B8-47BB-A70B-BF41E4527C0D
SUMMARY:Rathaussturm
DTSTAMP:20151213T194540Z
DESCRIPTION:
X-ALT-DESC;FMTTYPE=text/html:
X-ACCESS:1
X-HITS:320
X-URL:
X-COLOR:050DFF
END:VEVENT
BEGIN:VEVENT
DTSTART;TZID=Europe/Berlin:20160409T190000
DTEND;TZID=Europe/Berlin:20160409T193000
UID:8F84467F-F3B4-4EED-93CD-CB99331AE6B2
SUMMARY:Königsfeier
DTSTAMP:20151213T194731Z
DESCRIPTION:ab 19 Uhr für alle Mitglieder
X-ALT-DESC;FMTTYPE=text/html:<p><em>ab 19 Uhr für alle Mitglieder</em></p>
LOCATION:990 Am Höllenbach\, Schöllkrippen\, Bayern 63825\, Deutschland
GEO:50.08379370;9.25536990
X-ACCESS:1
X-HITS:532
X-URL:
X-COLOR:0800FF
END:VEVENT
BEGIN:VEVENT
DTSTART;VALUE=DATE:20160416
DTEND;VALUE=DATE:20160418
UID:8F6556CF-8625-40AA-AD1E-931C168E8D62
SUMMARY:Bezirksmeisterschaft KK 
DTSTAMP:20151213T194921Z
DESCRIPTION:
X-ALT-DESC;FMTTYPE=text/html:
LOCATION:990 Am Höllenbach\, Schöllkrippen\, Bayern 63825\, Deutschland
GEO:50.08379370;9.25536990
X-ACCESS:1
X-HITS:512
X-URL:
X-COLOR:1808FF
END:VEVENT
BEGIN:VEVENT
DTSTART;TZID=Europe/Berlin:20160529T200000
DTEND;TZID=Europe/Berlin:20160530T000000
UID:9A9DE1BD-AE15-4A13-9320-8F618DDAA454
SUMMARY:60 Jahre Heigenbrücken 
DTSTAMP:20151213T195127Z
DESCRIPTION:60 Jahre Heigenbrücken am 29.05.16 für alle Mitglieder
X-ALT-DESC;FMTTYPE=text/html:<p><em>60 Jahre Heigenbrücken am 29.05.16 für alle Mitglieder</em></p>
X-ACCESS:1
X-HITS:558
X-URL:
X-COLOR:030BFF
END:VEVENT
BEGIN:VEVENT
DTSTART;TZID=Europe/Berlin:20160611T200000
DTEND;TZID=Europe/Berlin:20160612T000000
UID:21851FB1-25EE-48FA-84D1-342453B53DDA
SUMMARY:105 Jahre Großlaudenbach 
DTSTAMP:20151213T195307Z
DESCRIPTION:105 Jahre Großlaudenbach am 11.06.16 für alle Mitglieder
X-ALT-DESC;FMTTYPE=text/html:<p><em>105 Jahre Großlaudenbach am 11.06.16 für alle Mitglieder</em></p>
X-ACCESS:1
X-HITS:679
X-URL:
X-COLOR:0B03FF
END:VEVENT
BEGIN:VEVENT
DTSTART;TZID=Europe/Berlin:20160618T160000
DTEND;TZID=Europe/Berlin:20160619T000000
UID:86E9E009-4AA5-4F15-948C-E931686EC642
SUMMARY:Mittsommernachtsfest
DTSTAMP:20151213T195501Z
DESCRIPTION:Mittsommernachtsfest am 18.06.16 für alle Mitglieder
X-ALT-DESC;FMTTYPE=text/html:<p><em>Mittsommernachtsfest am 18.06.16 für alle Mitglieder</em></p>
LOCATION:990 Am Höllenbach\, Schöllkrippen\, Bayern 63825\, Deutschland
GEO:50.08379370;9.25536990
LAST-MODIFIED:20151213T195700Z
X-ACCESS:1
X-HITS:591
X-URL:
X-COLOR:1100FF
END:VEVENT
BEGIN:VEVENT
DTSTART;TZID=Europe/Berlin:20160619T090000
DTEND;TZID=Europe/Berlin:20160620T000000
UID:32EA9E1B-803A-4FD4-AB0C-4331ACFB9EBF
SUMMARY:Unser 60jähriges Gründungsfest 
DTSTAMP:20151213T195626Z
DESCRIPTION:Unser 60jähriges Gründungsfest am 19.06.16 Teilnahme und Helferdienst ist Ehrensache für alle Mitglieder
X-ALT-DESC;FMTTYPE=text/html:<p><em>Unser 60jähriges Gründungsfest am 19.06.16 Teilnahme und Helferdienst ist Ehrensache für alle Mitglieder</em></p>
LOCATION:990 Am Höllenbach\, Schöllkrippen\, Bayern 63825\, Deutschland
GEO:50.08379370;9.25536990
X-ACCESS:1
X-HITS:469
X-URL:
X-COLOR:0505FF
END:VEVENT
BEGIN:VEVENT
DTSTART;TZID=Europe/Berlin:20161029T200000
DTEND;TZID=Europe/Berlin:20161030T000000
UID:A5F034EB-6F10-4258-B3A7-5D73B0AD37DD
SUMMARY:Gaukönigsball 
DTSTAMP:20151213T195831Z
DESCRIPTION:Gaukönigsball am 29.10.16 für alle die mitmöchten
X-ALT-DESC;FMTTYPE=text/html:<p><em>Gaukönigsball am 29.10.16 für alle die mitmöchten</em></p>
X-ACCESS:1
X-HITS:549
X-URL:
X-COLOR:0526FF
END:VEVENT
BEGIN:VEVENT
DTSTART;TZID=Europe/Berlin:20161203T190000
DTEND;TZID=Europe/Berlin:20161204T000000
UID:FEF0F138-7A2D-4E08-9440-42982005C09B
SUMMARY:Weihnachtsfeier
DTSTAMP:20151213T195945Z
DESCRIPTION:Weihnachtsfeier am 03.12.16 um 19 Uhr für alle Mitglieder
X-ALT-DESC;FMTTYPE=text/html:<p><em>Weihnachtsfeier am 03.12.16 um 19 Uhr für alle Mitglieder</em></p>
LOCATION:990 Am Höllenbach\, Schöllkrippen\, Bayern 63825\, Deutschland
GEO:50.08379370;9.25536990
X-ACCESS:1
X-HITS:503
X-URL:
X-COLOR:1C03FF
END:VEVENT
BEGIN:VEVENT
DTSTART;TZID=Europe/Berlin:20161231T100000
DTEND;TZID=Europe/Berlin:20161231T140000
UID:01EAC5A6-C38C-4352-8D9C-938F97B4CF80
SUMMARY:Silvesterböllern
DTSTAMP:20151213T200058Z
DESCRIPTION:Silvesterböllern am 31.12.16 ab 10 Uhr für alle Mitglieder
X-ALT-DESC;FMTTYPE=text/html:<p><em>Silvesterböllern am 31.12.16 ab 10 Uhr für alle Mitglieder</em></p>
LOCATION:990 Am Höllenbach\, Schöllkrippen\, Bayern 63825\, Deutschland
GEO:50.08379370;9.25536990
X-ACCESS:1
X-HITS:575
X-URL:
X-COLOR:1303FF
END:VEVENT
BEGIN:VEVENT
DTSTART;TZID=Europe/Berlin:20171231T093000
DTEND;TZID=Europe/Berlin:20171231T150000
UID:6135894A-DF12-4F7C-8A96-D5023376C9E6
SUMMARY:AWK-Böllern
DTSTAMP:20171212T062829Z
DESCRIPTION:Silvesterböllern der Böllerschützen vom RAG-Schall und Rauch
X-ALT-DESC;FMTTYPE=text/html:<p>Silvesterböllern der Böllerschützen vom RAG-Schall und Rauch</p>
LOCATION:990 Am Höllenbach\, Schöllkrippen\, Bayern 63825\, Deutschland
GEO:50.08379370;9.25536990
LAST-MODIFIED:20171212T063051Z
X-ACCESS:1
X-HITS:321
X-URL:
X-COLOR:0808FF
END:VEVENT
BEGIN:VEVENT
DTSTART;TZID=Europe/Berlin:20180623T170000
DTEND;TZID=Europe/Berlin:20180623T235900
UID:274F81F3-148A-4D30-A2C9-47D19DB722B8
SUMMARY:Sonnwendfeier
DTSTAMP:20180527T100053Z
DESCRIPTION:Sonnwendfeier mit den Böllerschützen von Schall und Rauch und Fußball-Liveübertragung\N 
X-ALT-DESC;FMTTYPE=text/html:<p>Sonnwendfeier mit den Böllerschützen von Schall und Rauch und Fußball-Liveübertragung</p><div id="OKAYFREEDOM_INJECTED" style="display: none;"> </div>
LOCATION:990 Am Höllenbach\, Schöllkrippen\, Bayern 63825\, Deutschland
GEO:50.08379370;9.25536990
X-ACCESS:1
X-HITS:1284
X-URL:
X-COLOR:3366CC
END:VEVENT
BEGIN:VEVENT
DTSTART;TZID=Europe/Berlin:20181201T190000
DTEND;TZID=Europe/Berlin:20181201T235900
UID:0EF8618E-3D34-420F-ACF0-9B5E701847A3
SUMMARY:Weihnachtsfeier
DTSTAMP:20180527T100547Z
DESCRIPTION:Weihnachtsfeier im Schützenhaus mit Tombola\N 
X-ALT-DESC;FMTTYPE=text/html:<p>Weihnachtsfeier im Schützenhaus mit Tombola</p><div id="OKAYFREEDOM_INJECTED" style="display: none;"> </div>
LOCATION:990 Am Höllenbach\, Schöllkrippen\, Bayern 63825\, Deutschland
GEO:50.08379370;9.25536990
X-ACCESS:1
X-HITS:396
X-URL:
X-COLOR:3366CC
END:VEVENT
END:VCALENDAR